BEGIN:VCALENDAR
VERSION:2.0
PRODID:-//jEvents 1.5 for Joomla//EN
BEGIN:VEVENT
UID:ac8b0213528340fbbed75f5c4b355498
CATEGORIES:Adenstedt aktuell
SUMMARY:Anlieferung Osterfeuer
LOCATION:
DESCRIPTION;ENCODING=QUOTED-PRINTABLE:\n\nLiebe Adenstedter, \n\num auch in diesem Jahr wieder ein schÃ¶nes Oster
 feuer abbrennen zu kÃ¶nnen, fahren wir Junggesellen am 07.04. ab 8 Uhr durc
 h das Dorf und sammeln kleine Mengen gebÃ¼ndeltes, an der StraÃŸe liegendes
  Holz. Wie gewohnt werden keine Baumwurzeln, stachelige BÃ¼sche und schwer 
 brennbare StÃ¤mme abgeholt. Die Anmeldung ist bis zum 31.03. bei unserem Ob
 erst Benjamin Richter (Tel. 58364) bzw. unserem Adjutanten SÃ¶ren Roffmann 
 (Tel. 0171/7843667) mÃ¶glich. Das Holz werden wir am 01.04 ab 14 Uhr beguta
 chten.\n\n\nDes Weiteren sind wir auch auf Ihre Mithilfe in Form von Eigena
 nlieferungen von Holz angewiesen. Folgende Termine stehen hierbei zur VerfÃ
 ¼gung:\n\n\nFreitag, 06.04. von 15.30 â€“ 18.00 Uhr und\n\nSamstag, 07.04. 
 von 8.30 â€“ 18.30 Uhr.\n\n\nAngenommen wird nur unbehandeltes Holz (also k
 eine Lack- und EisenrÃ¼ckstÃ¤nde). Wir weisen darauf hin, dass jeder, der u
 nrechtmÃ¤ÃŸig Holz am Osterfeuerplatz ablÃ¤dt, mit einer Anzeige rechnen mu
 ss.\n\n\nIhre Junggesellschaft\n

DTSTAMP:20260421T132804
DTSTART:20120406T153000
DTEND:20120406T180000
SEQUENCE:0
TRANSP:OPAQUE
END:VEVENT
END:VCALENDAR