BEGIN:VCALENDAR
VERSION:2.0
PRODID:-//jEvents 1.5 for Joomla//EN
BEGIN:VEVENT
UID:2f5ce885802832371f9e71083b92f785
CATEGORIES:Adenstedt aktuell
SUMMARY:Boßeltour Alt-JG
LOCATION:
DESCRIPTION;ENCODING=QUOTED-PRINTABLE:\n\nHallo Alt-Junggesellen,\nam 26.11.2011 wollen wir den Wasserstand der G
 räben in der Feldmark prüfen, also Boßeln! Hierzu treffen wir uns um 13:
 00 Uhr bei Spieß Schnur auf dem Hof. Für Verpflegung wird wie immer gesor
 gt.\nDer Vorstand.\n

DTSTAMP:20260421T032424
DTSTART:20111126T130000
DTEND:20111126T150000
SEQUENCE:0
TRANSP:OPAQUE
END:VEVENT
END:VCALENDAR