BEGIN:VCALENDAR
VERSION:2.0
PRODID:-//jEvents 1.5 for Joomla//EN
BEGIN:VEVENT
UID:bebcd8f181547b7d5c45e10b2a15b238
CATEGORIES:Adenstedt aktuell
SUMMARY:Mini-Markt
LOCATION:
DESCRIPTION;ENCODING=QUOTED-PRINTABLE:

DTSTAMP:20260420T185621
DTSTART:20110917T000000
DTEND:20110917T235959
SEQUENCE:0
TRANSP:OPAQUE
END:VEVENT
END:VCALENDAR