BEGIN:VCALENDAR
VERSION:2.0
PRODID:-//jEvents 1.5 for Joomla//EN
BEGIN:VEVENT
UID:86ffd7797f714dbe7ccc72dc342036c2
CATEGORIES:MuellKalender
SUMMARY:gruen
LOCATION:
DESCRIPTION;ENCODING=QUOTED-PRINTABLE:

DTSTAMP:20260420T190521
DTSTART:20110916T000000
DTEND:20110916T235959
SEQUENCE:0
TRANSP:OPAQUE
END:VEVENT
END:VCALENDAR