BEGIN:VCALENDAR
VERSION:2.0
PRODID:-//jEvents 1.5 for Joomla//EN
BEGIN:VEVENT
UID:c2b6b18cf480ef4b4869664199a5d3dc
CATEGORIES:Adenstedt aktuell
SUMMARY:Feuerwehrtag - Minimarkt - Weinfest
LOCATION:
DESCRIPTION;ENCODING=QUOTED-PRINTABLE:\n\nDrei Vereine feiern gemeinsam in Adenstedt! \n\n\nAm 14. September ab 1
 4 Uhr heißen die Feuerwehr, der Handballförderkreis und die Griechenmädc
 hen jeden ganz herzlich Willkommen!
CONTACT:https://www.facebook.com/events/733972590390712/?ti=icl

DTSTAMP:20260425T215804
DTSTART:20190914T140000
DTEND:20190914T150000
SEQUENCE:0
TRANSP:OPAQUE
END:VEVENT
END:VCALENDAR