BEGIN:VCALENDAR
VERSION:2.0
PRODID:-//jEvents 1.5 for Joomla//EN
BEGIN:VEVENT
UID:8b02c4c51fa09b74d67e02457be922f1
CATEGORIES:MuellKalender
SUMMARY:gruen, gelb, blau
LOCATION:
DESCRIPTION;ENCODING=QUOTED-PRINTABLE:

DTSTAMP:20260420T191310
DTSTART:20140829T000000
DTEND:20140829T235959
SEQUENCE:0
TRANSP:OPAQUE
END:VEVENT
END:VCALENDAR