BEGIN:VCALENDAR
VERSION:2.0
PRODID:-//jEvents 1.5 for Joomla//EN
BEGIN:VEVENT
UID:bf202d5b0f8731af63f79be3843235f2
CATEGORIES:Adenstedt aktuell
SUMMARY:SGA Adenstedt
LOCATION:
DESCRIPTION;ENCODING=QUOTED-PRINTABLE:\n\nDie SGA Addenstedt wird am Freitag, den 25. Juni ab 15:00 und am Samsta
 g, den 26. Juni ab 9:00 auf der Sportanlage Adenstedt einen Arbeitseinsatz 
 durchführen, bei der sie jede helfende Hand gut gebrauchen kann.\n\n\n \n
X-EXTRAINFO:Daher rufen wir sie auf, wenn Sie Zeit und Lust haben, uns an beiden Tagen zu unterstützen, um unsere wunderschöne Sportanlage im neuen Glanz herauszuputzen.
Helfen kann jeder, ob jung oder alt, ob Frau oder Mann, jeder ist herzlich zum
DTSTAMP:20260422T150711
DTSTART:20100626T090000
DTEND:20100626T170000
SEQUENCE:0
TRANSP:OPAQUE
END:VEVENT
END:VCALENDAR