BEGIN:VCALENDAR
VERSION:2.0
PRODID:-//jEvents 1.5 for Joomla//EN
BEGIN:VEVENT
UID:ca53e83f2b6ef7ba762ff45f3a669687
CATEGORIES:MuellKalender
SUMMARY:schwarz
LOCATION:
DESCRIPTION;ENCODING=QUOTED-PRINTABLE:\n\nhttp://ab-peine.de/abfuhrtermine/landkreis.asp\n

DTSTAMP:20260425T133701
DTSTART:20120224T000000
DTEND:20120224T235959
SEQUENCE:0
TRANSP:OPAQUE
END:VEVENT
END:VCALENDAR