BEGIN:VCALENDAR
VERSION:2.0
PRODID:-//jEvents 1.5 for Joomla//EN
BEGIN:VEVENT
UID:4f3f4fdeb31840986da05d8c69a15ac1
CATEGORIES:MuellKalender
SUMMARY:gruen, gelb, blau
LOCATION:
DESCRIPTION;ENCODING=QUOTED-PRINTABLE:\n\nhttp://ab-peine.de/abfuhrtermine/landkreis.asp\n

DTSTAMP:20260421T084555
DTSTART:20120217T000000
DTEND:20120217T235959
SEQUENCE:0
TRANSP:OPAQUE
END:VEVENT
END:VCALENDAR