BEGIN:VCALENDAR
VERSION:2.0
PRODID:-//jEvents 1.5 for Joomla//EN
BEGIN:VEVENT
UID:38653b44d4f83ac0a21b4235f0e9e9bd
CATEGORIES:MuellKalender
SUMMARY:schwarz, gruen
LOCATION:
DESCRIPTION;ENCODING=QUOTED-PRINTABLE:

DTSTAMP:20260420T173608
DTSTART:20110909T000000
DTEND:20110909T235959
SEQUENCE:0
TRANSP:OPAQUE
END:VEVENT
END:VCALENDAR