BEGIN:VCALENDAR
VERSION:2.0
PRODID:-//jEvents 1.5 for Joomla//EN
BEGIN:VEVENT
UID:e4b850a4686ac75bfd93f300f3b5f1ac
CATEGORIES:Adenstedt aktuell
SUMMARY:Adenstedter Frauen
LOCATION:Schüzuenhaus Adenstedt
DESCRIPTION;ENCODING=QUOTED-PRINTABLE:\n\nAusschießen der Damenkönigin\n

DTSTAMP:20260424T214620
DTSTART:20100708T190000
DTEND:20100708T213000
SEQUENCE:0
TRANSP:OPAQUE
END:VEVENT
END:VCALENDAR